BEGIN:VCALENDAR
VERSION:2.0
PRODID:-//Excellence Opleiding - ECPv6.15.20//NONSGML v1.0//EN
CALSCALE:GREGORIAN
METHOD:PUBLISH
X-ORIGINAL-URL:https://excellence-opleiding.nl
X-WR-CALDESC:Evenementen voor Excellence Opleiding
REFRESH-INTERVAL;VALUE=DURATION:PT1H
X-Robots-Tag:noindex
X-PUBLISHED-TTL:PT1H
BEGIN:VTIMEZONE
TZID:Europe/Amsterdam
BEGIN:DAYLIGHT
TZOFFSETFROM:+0100
TZOFFSETTO:+0200
TZNAME:CEST
DTSTART:20250330T010000
END:DAYLIGHT
BEGIN:STANDARD
TZOFFSETFROM:+0200
TZOFFSETTO:+0100
TZNAME:CET
DTSTART:20251026T010000
END:STANDARD
BEGIN:DAYLIGHT
TZOFFSETFROM:+0100
TZOFFSETTO:+0200
TZNAME:CEST
DTSTART:20260329T010000
END:DAYLIGHT
BEGIN:STANDARD
TZOFFSETFROM:+0200
TZOFFSETTO:+0100
TZNAME:CET
DTSTART:20261025T010000
END:STANDARD
BEGIN:DAYLIGHT
TZOFFSETFROM:+0100
TZOFFSETTO:+0200
TZNAME:CEST
DTSTART:20270328T010000
END:DAYLIGHT
BEGIN:STANDARD
TZOFFSETFROM:+0200
TZOFFSETTO:+0100
TZNAME:CET
DTSTART:20271031T010000
END:STANDARD
END:VTIMEZONE
BEGIN:VEVENT
DTSTART;TZID=Europe/Amsterdam:20260508T093000
DTEND;TZID=Europe/Amsterdam:20260508T170000
DTSTAMP:20260421T031033
CREATED:20230728T130343Z
LAST-MODIFIED:20260223T102049Z
UID:7467-1778232600-1778259600@excellence-opleiding.nl
SUMMARY:Praktijkmodule TMC Practitioner (dag 1 - Traject 14)
DESCRIPTION:De module TransforMissioneel Coachen Practitioner is ontwikkeld voor hen die vanuit een christelijk kader opgeleid willen worden tot professioneel coach met als doel een een eigen coachpraktijk te beginnen of coachend leiderschap vorm te geven binnen de context van een team of organisatie. \nNaast ruime aandacht voor kennis en vaardigheden van het vak coachen wordt er veel zorg besteed aan de beroepshouding en de geestelijke vorming van de cursist in relatie tot de coachprofessie. \nDe opleiding TransforMissioneel Coachen Practitioner heeft een Europees kwaliteitskeurmerk (European Quality Award) ontvangen van de Europese Mentoring & Coaching Council (EMCC) en de Nederlandse Orde van Beroepscoaches (NOBCO). \nIn de aanvullende Practitioner-module krijg je nog drie extra onderwijsdagen waarin aandacht wordt besteedt aan de ‘Toolkit van de coach‘. Aan bod komen: \n\nVerdieping van coachvaardigheden\nVerkennen van het belangrijkste instrument: de persoon van de coach\nOefenen van coachinstrumenten die passen bij het TransforMissioneel Coachen\nCreatieve werkvormen die passen bij het TransforMissioneel Coachen\nOefeningen en huiswerkopdrachten voor de coachee\n\nOok is er een praktijkmodule waarin je je coachpraktijk vorm geeft met 50 CoachContactUren en wordt ondersteund met persoonlijke praktijkbegeleiding door een ervaren NOBCO-erkende Senior Practitioner Coach en Supervisor. Via maandelijkse Online Intervisie blijf je contact houden met je studiegenoten om vragen en casussen te bespreken.
URL:https://excellence-opleiding.nl/event/praktijkmodule-tmc-practitioner-dag-2/
LOCATION:Vennendal\, Vennenpad 5\, Nunspeet\, 8072 PX
CATEGORIES:TransforMissioneel Coachen Practitioner
ORGANIZER;CN="CC Excellence":MAILTO:info@cc-excellence.nl
END:VEVENT
BEGIN:VEVENT
DTSTART;TZID=Europe/Amsterdam:20260612T093000
DTEND;TZID=Europe/Amsterdam:20260612T170000
DTSTAMP:20260421T031033
CREATED:20230728T132914Z
LAST-MODIFIED:20260223T102109Z
UID:7471-1781256600-1781283600@excellence-opleiding.nl
SUMMARY:Praktijkmodule TMC Practitioner (dag 2 - Traject 14)
DESCRIPTION:De module TransforMissioneel Coachen Practitioner is ontwikkeld voor hen die vanuit een christelijk kader opgeleid willen worden tot professioneel coach met als doel een een eigen coachpraktijk te beginnen of coachend leiderschap vorm te geven binnen de context van een team of organisatie. \nNaast ruime aandacht voor kennis en vaardigheden van het vak coachen wordt er veel zorg besteed aan de beroepshouding en de geestelijke vorming van de cursist in relatie tot de coachprofessie. \nDe opleiding TransforMissioneel Coachen Practitioner heeft een Europees kwaliteitskeurmerk (European Quality Award) ontvangen van de Europese Mentoring & Coaching Council (EMCC) en de Nederlandse Orde van Beroepscoaches (NOBCO). \nIn de aanvullende Practitioner-module krijg je nog drie extra onderwijsdagen waarin aandacht wordt besteedt aan de ‘Toolkit van de coach‘. Aan bod komen: \n\nVerdieping van coachvaardigheden\nVerkennen van het belangrijkste instrument: de persoon van de coach\nOefenen van coachinstrumenten die passen bij het TransforMissioneel Coachen\nCreatieve werkvormen die passen bij het TransforMissioneel Coachen\nOefeningen en huiswerkopdrachten voor de coachee\n\nOok is er een praktijkmodule waarin je je coachpraktijk vorm geeft met 50 CoachContactUren en wordt ondersteund met persoonlijke praktijkbegeleiding door een ervaren NOBCO-erkende Senior Practitioner Coach en Supervisor. Via maandelijkse Online Intervisie blijf je contact houden met je studiegenoten om vragen en casussen te bespreken.
URL:https://excellence-opleiding.nl/event/praktijkmodule-tmc-practitioner-dag-3/
LOCATION:Vennendal\, Vennenpad 5\, Nunspeet\, 8072 PX
CATEGORIES:TransforMissioneel Coachen Practitioner
ORGANIZER;CN="CC Excellence":MAILTO:info@cc-excellence.nl
END:VEVENT
END:VCALENDAR